BEGIN:VCALENDAR
VERSION:2.0
PRODID:-//Regnum Christi Creidim - ECPv6.15.18//NONSGML v1.0//EN
CALSCALE:GREGORIAN
METHOD:PUBLISH
X-ORIGINAL-URL:https://creidim.ie
X-WR-CALDESC:Events for Regnum Christi Creidim
REFRESH-INTERVAL;VALUE=DURATION:PT1H
X-Robots-Tag:noindex
X-PUBLISHED-TTL:PT1H
BEGIN:VTIMEZONE
TZID:Europe/Dublin
BEGIN:STANDARD
TZOFFSETFROM:+0000
TZOFFSETTO:+0100
TZNAME:IST
DTSTART:20250330T010000
END:STANDARD
BEGIN:DAYLIGHT
TZOFFSETFROM:+0100
TZOFFSETTO:+0000
TZNAME:GMT
DTSTART:20251026T010000
END:DAYLIGHT
BEGIN:STANDARD
TZOFFSETFROM:+0000
TZOFFSETTO:+0100
TZNAME:IST
DTSTART:20260329T010000
END:STANDARD
BEGIN:DAYLIGHT
TZOFFSETFROM:+0100
TZOFFSETTO:+0000
TZNAME:GMT
DTSTART:20261025T010000
END:DAYLIGHT
BEGIN:STANDARD
TZOFFSETFROM:+0000
TZOFFSETTO:+0100
TZNAME:IST
DTSTART:20270328T010000
END:STANDARD
BEGIN:DAYLIGHT
TZOFFSETFROM:+0100
TZOFFSETTO:+0000
TZNAME:GMT
DTSTART:20271031T010000
END:DAYLIGHT
END:VTIMEZONE
BEGIN:VEVENT
DTSTART;TZID=Europe/Dublin:20260102T124500
DTEND;TZID=Europe/Dublin:20260102T131500
DTSTAMP:20260420T104959
CREATED:20251022T155734Z
LAST-MODIFIED:20251103T161756Z
UID:2246-1767357900-1767359700@creidim.ie
SUMMARY:CANCELED - Mass and Confessions
DESCRIPTION:
URL:https://creidim.ie/event/mass-and-confessions-canceled-3/
LOCATION:Regnum Christi Creidim Centre\, Legionaries of Christ\, Leopardstown Rd\, Carmanhall\, Dublin\, Dublin 18\, D18FF64\, Ireland
END:VEVENT
BEGIN:VEVENT
DTSTART;TZID=Europe/Dublin:20260102T190000
DTEND;TZID=Europe/Dublin:20260102T210000
DTSTAMP:20260420T104959
CREATED:20251022T165358Z
LAST-MODIFIED:20251022T165358Z
UID:2334-1767380400-1767387600@creidim.ie
SUMMARY:Home School Gathering - first Fridays
DESCRIPTION:
URL:https://creidim.ie/event/home-school-gathering-first-fridays-3/
LOCATION:Regnum Christi Creidim Centre\, Legionaries of Christ\, Leopardstown Rd\, Carmanhall\, Dublin\, Dublin 18\, D18FF64\, Ireland
END:VEVENT
END:VCALENDAR